BEGIN:VCALENDAR
VERSION:2.0
PRODID:-//ChamberMaster//Event Calendar 2.0//EN
METHOD:PUBLISH
X-PUBLISHED-TTL:P3D
REFRESH-INTERVAL:P3D
CALSCALE:GREGORIAN
BEGIN:VEVENT
DTSTART:20200209T010000Z
DTEND:20200209T050000Z
X-MICROSOFT-CDO-ALLDAYEVENT:FALSE
SUMMARY:Yes one of our BEST! Saturday February 8th at Magnolia Gardens Auction House!
DESCRIPTION:Join us Saturday February 8th for another fabulous auction at the best auction house around Magnolia Gardens Auction House. \n\nLadies and Gentlemen introducing a winning lineup for our next auction\, you don't want to miss it! We have a little bit of everything for everyone and every room. Great dining tables and chair sets\, buffets\, king size bedroom set\, full bedroom set\, display cabinets\, Welch Cabinet\, leather top desk\, Dog Therapy Pool by RUFF\, Ariat Boots\, Stuart Weitzman boots\, designer purses\, Lladro\, copperware\, fun yard d cor\, Junghans Clock\, Bombay chest\, sectional sofas and we have only just begun! \n\nWe have viewing starting at 5pm and the sale starts at 7\, we would be happy to save you some seats call 281-516-7251\, 713-363-4855 or use the link on our Facebook page. Also visit us at www.magnoliagardensauctionhouse.com If for some reason you are unable to attend you may call one of the numbers above and leave an absentee bid all we need is the maximum bid you wish to leave on your favorite items\, payment and contact information. \n\nTina Murphy 16380\n\nItems Sold As Is\n\n16% Buyers Premium\n\nCash\, Check and Credit Card Accepted\n\nOpen to the Public\n\nDealers Welcome
X-ALT-DESC;FMTTYPE=text/html:<p style="margin-left:0px\; margin-right:0px\; text-align:left">Join us <strong><em>Saturday February 8th</em></strong> for another fabulous auction at the best auction house around <strong><em>Magnolia Gardens Auction House.&nbsp\;</em></strong></p>\n\n<p style="margin-left:0px\; margin-right:0px\; text-align:left"><strong><em>Ladies and Gentlemen introducing a winning lineup for our next auction\, you don&#39\;t want to miss it! We have a little bit of everything for everyone and every room. Great dining tables and chair sets\, buffets\, king size bedroom set\, full bedroom set\, display cabinets\, Welch Cabinet\, leather top desk\, Dog Therapy Pool by RUFF\, Ariat Boots\, Stuart Weitzman boots\, designer purses\, Lladro\, copperware\, fun yard d&eacute\;cor\, Junghans Clock\, Bombay chest\, sectional sofas and we have only just begun!</em></strong>&nbsp\;</p>\n\n<p style="margin-left:0px\; margin-right:0px\; text-align:left">We have viewing starting at 5pm and the sale starts at 7\, we would be happy to save you some seats call 281-516-7251\, 713-363-4855 or use the link on our Facebook page. Also visit us at <a href="http://www.magnoliagardensauctionhouse.com/" rel="nofollow" style="background-color: transparent\; box-sizing: border-box\; color: rgb(37\, 107\, 201)\; line-height: inherit\; text-decoration: underline\;">www.magnoliagardensauctionhouse.com</a> If for some reason you are unable to attend you may call one of the numbers above and leave an absentee bid all we need is the maximum bid you wish to leave on your favorite items\, payment and contact information.&nbsp\;</p>\n\n<p style="margin-left:0px\; margin-right:0px\; text-align:left">Tina Murphy 16380</p>\n\n<p style="margin-left:0px\; margin-right:0px\; text-align:left">Items Sold As Is</p>\n\n<p style="margin-left:0px\; margin-right:0px\; text-align:left">16% Buyers Premium</p>\n\n<p style="margin-left:0px\; margin-right:0px\; text-align:left">Cash\, Check and Credit Card Accepted</p>\n\n<p style="margin-left:0px\; margin-right:0px\; text-align:left">Open to the Public</p>\n\n<p style="margin-left:0px\; margin-right:0px\; text-align:left">Dealers Welcome&nbsp\;</p>\n
LOCATION:18090 Bauer Road Hockley\, TX 77447
UID:e.1783.2448
SEQUENCE:3
DTSTAMP:20260424T150016Z
URL:https://business.wallerchamber.com/events/details/yes-one-of-our-best-saturday-february-8th-at-magnolia-gardens-auction-house-2448
END:VEVENT

END:VCALENDAR
