BEGIN:VCALENDAR
VERSION:2.0
PRODID:-//ChamberMaster//Event Calendar 2.0//EN
METHOD:PUBLISH
X-PUBLISHED-TTL:P3D
REFRESH-INTERVAL:P3D
CALSCALE:GREGORIAN
BEGIN:VEVENT
DTSTART:20211010T190000Z
DTEND:20211010T230000Z
X-MICROSOFT-CDO-ALLDAYEVENT:FALSE
SUMMARY:TopBoss Popup Shop
DESCRIPTION:This event is to network our small businesses that Waller County has to offer!!!
X-ALT-DESC;FMTTYPE=text/html:This event is to network our small businesses that Waller County has to offer!!!
LOCATION:Classic Events Cafe 615 US-290 BUS\, Hempstead TX\, 77445
UID:e.1783.2495
SEQUENCE:3
DTSTAMP:20260420T005720Z
URL:https://business.wallerchamber.com/events/details/topboss-popup-shop-2495
END:VEVENT

END:VCALENDAR
