BEGIN:VCALENDAR
VERSION:2.0
PRODID:-//ChamberMaster//Event Calendar 2.0//EN
METHOD:PUBLISH
X-PUBLISHED-TTL:P3D
REFRESH-INTERVAL:P3D
CALSCALE:GREGORIAN
BEGIN:VEVENT
DTSTART:20210918T070000Z
DTEND:20210918T230000Z
X-MICROSOFT-CDO-ALLDAYEVENT:FALSE
SUMMARY:Top Boss Pop-up Shop
DESCRIPTION:TopBoss popup shop is a event to show off our local small business and to show what Waller county has to offer!!\n\n\n\nIf you would like to be a vendor please fill out the link below:\n\nhttps://form.jotform.com/212394115109146
X-ALT-DESC;FMTTYPE=text/html:TopBoss popup shop is a event to show off our local small business and to show what Waller county has to offer!!<br />\n<br />\nIf you would like to be a vendor please fill out the link below:<br />\n<a href="https://form.jotform.com/212394115109146">https://form.jotform.com/212394115109146</a><br />\n&nbsp\;
LOCATION:New location: Hempstead City Park
UID:e.1783.2494
SEQUENCE:3
DTSTAMP:20260420T022434Z
URL:https://business.wallerchamber.com/events/details/top-boss-pop-up-shop-2494
END:VEVENT

END:VCALENDAR
