BEGIN:VCALENDAR
VERSION:2.0
PRODID:-//ChamberMaster//Event Calendar 2.0//EN
METHOD:PUBLISH
X-PUBLISHED-TTL:P3D
REFRESH-INTERVAL:P3D
CALSCALE:GREGORIAN
BEGIN:VEVENT
DTSTART:20200202T010000Z
DTEND:20200202T050000Z
X-MICROSOFT-CDO-ALLDAYEVENT:FALSE
SUMMARY:The Best Auction House around at Magnolia Gardens Auction House! Join us Saturday February 1st!
DESCRIPTION:We are getting ready for our next fabulous auction at Magnolia Gardens Auction House\, this Saturday February 1st! \n\nWe have an awesome floor set for you this week\, and we have only just begun.....A gorgeous Hall Tree\, Sectional Sofa\, groovy Record Cabinet\, cast iron skillets\, Turquoise Necklaces\, a stand alone bar\, bar stools\, vintage kitchen stools\, vintage canister set\, jewelry and lots more to come!!\n\nOur doors open at 5pm for viewing and the sale starts at 7pm. We can save you some seats just call 281-516-7251\, 713-363-4855 or use the link on our Facebook page. Visit us at www.magnoliagardensauctionhouse.com. If for some reason you are unable to attend you may call one of the numbers above and leave a bid all we need is your maximum bid on your favorite treasures\, payment and contact information. \n\nTina Murphy 16830\n\nItems Sold As Is\n\n16% Buyers Premium\n\nCash\, Check and Credit Card Accepted\n\nOpen to the Public\n\nDealers Welcome
X-ALT-DESC;FMTTYPE=text/html:<p style="margin-left:0px\; margin-right:0px\; text-align:left">We are getting ready for our next fabulous auction at <strong>Magnolia Gardens Auction House</strong>\, this <strong>Saturday February 1st!</strong>&nbsp\;</p>\n\n<p style="margin-left:0px\; margin-right:0px\; text-align:left"><strong><em>We have an awesome floor set for you this week\, and we have only just begun.....A gorgeous Hall Tree\, Sectional Sofa\, groovy Record Cabinet\, cast iron skillets\, Turquoise Necklaces\, a stand alone bar\, bar stools\, vintage kitchen stools\, vintage canister set\, jewelry and lots more to come!!</em></strong></p>\n\n<p style="margin-left:0px\; margin-right:0px\; text-align:left">Our doors open at 5pm for viewing and the sale starts at 7pm. We can save you some seats just call 281-516-7251\, 713-363-4855 or use the link on our Facebook page. Visit us at <a href="http://www.magnoliagardensauctionhouse.com/" rel="nofollow" style="background-color: transparent\; box-sizing: border-box\; color: rgb(37\, 107\, 201)\; line-height: inherit\; text-decoration: underline\;">www.magnoliagardensauctionhouse.com</a>. If for some reason you are unable to attend you may call one of the numbers above and leave a bid all we need is your maximum bid on your favorite treasures\, payment and contact information.&nbsp\;</p>\n\n<p style="margin-left:0px\; margin-right:0px\; text-align:left">Tina Murphy 16830</p>\n\n<p style="margin-left:0px\; margin-right:0px\; text-align:left">Items Sold As Is</p>\n\n<p style="margin-left:0px\; margin-right:0px\; text-align:left">16% Buyers Premium</p>\n\n<p style="margin-left:0px\; margin-right:0px\; text-align:left">Cash\, Check and Credit Card Accepted</p>\n\n<p style="margin-left:0px\; margin-right:0px\; text-align:left">Open to the Public</p>\n\n<p style="margin-left:0px\; margin-right:0px\; text-align:left">Dealers Welcome&nbsp\;</p>\n
LOCATION:18090 Bauer Road Hockley\, TX 77447
UID:e.1783.2447
SEQUENCE:3
DTSTAMP:20260424T152302Z
URL:https://business.wallerchamber.com/events/details/the-best-auction-house-around-at-magnolia-gardens-auction-house-join-us-saturday-february-1st-2447
END:VEVENT

END:VCALENDAR
