BEGIN:VCALENDAR
VERSION:2.0
PRODID:-//ChamberMaster//Event Calendar 2.0//EN
METHOD:PUBLISH
X-PUBLISHED-TTL:P3D
REFRESH-INTERVAL:P3D
CALSCALE:GREGORIAN
BEGIN:VEVENT
DTSTART:20200315T000000Z
DTEND:20200315T040000Z
X-MICROSOFT-CDO-ALLDAYEVENT:FALSE
SUMMARY:Phenomenal Auction Saturday March 14th at Magnolia Gardens Auction House!
DESCRIPTION:It just keeps getting better and better with the amazing treasures we have at Magnolia Gardens Auction House! Come see what you've been missing this Saturday March 14th! \n\nA great start to the week with some amazing pieces....Sunlite Drum Set\, Zidjian Symbols\, Lovely side by side drop front\, draw leaf tables\, chairs\, fabulous round dining table and chairs\, cute TX star entry table\, comfy Lazy-Boy Recliners\, sectional sofa\, entertainment center\, baby cradle\, desk\, office chairs\, Noritake\, and more! \n\nWe have something for everyone....antique primitives\, a golfers dream-golf shoes\, clubs\, shorts\, lovely cake plates\, a gorgeous dining table\, and so much more! \n\nWe open our doors at 5pm the day of auction so you can come in and view the floor\, the sale starts at 7pm. We gladly accept seat reservations you may do so by calling 281-516-7251\, 713-363-4855 or use the link on our Facebook page which by the way is a great way to get daily posts and pictures. So if you are on Facebook look us up and "like" us. If for some reason you are unable to attend you may call one of the numbers above and leave an absentee bid all we need is the amount you wish to bid on your favorite pieces\, payment and contact information. Visit our website at www.magnoliagardensauctionhouse.com\n\nSee you there!\n\nTina Murphy 16380\n\nItems Sold As Is\n\n16% Buyers Premium\n\nCash\, Check and Credit Card Accepted\n\nOpen to the Public\n\nDealers Welcome
X-ALT-DESC;FMTTYPE=text/html:<div style="margin-left:0px\; margin-right:0px\; text-align:left">\n<h4 style="margin-left:0px\; margin-right:0px">&nbsp\;</h4>\n</div>\n\n<div style="margin-left:0px\; margin-right:0px\; text-align:left">\n<div style="margin-left:0px\; margin-right:0px">\n<p style="margin-left:0px\; margin-right:0px">It just keeps getting better and better with the amazing treasures we have at <strong>Magnolia Gardens Auction House!</strong> Come see what you've been missing this<strong> Saturday March 14th!</strong>&nbsp\;</p>\n\n<p style="margin-left:0px\; margin-right:0px"><strong><em>A great start to the week with some amazing pieces....Sunlite Drum Set\, Zidjian Symbols\, Lovely side by side drop front\, draw leaf tables\, chairs\, fabulous round dining table and chairs\, cute TX star entry table\, comfy Lazy-Boy Recliners\, sectional sofa\, entertainment center\, baby cradle\, desk\, office chairs\, Noritake\, and more!&nbsp\;</em></strong></p>\n\n<p style="margin-left:0px\; margin-right:0px"><strong><em>We have something for everyone....antique primitives\, a golfers dream-golf shoes\, clubs\, shorts\, lovely cake plates\, a gorgeous dining table\, and so much more!&nbsp\;</em></strong></p>\n\n<p style="margin-left:0px\; margin-right:0px">We open our doors at 5pm the day of auction so you can come in and view the floor\, the sale starts at 7pm. We gladly accept seat reservations you may do so by calling 281-516-7251\, 713-363-4855 or use the link on our Facebook page which by the way is a great way to get daily posts and pictures. So if you are on Facebook look us up and "like" us. If for some reason you are unable to attend you may call one of the numbers above and leave an absentee bid all we need is the amount you wish to bid on your favorite pieces\, payment and contact information. Visit our website at <a href="http://www.magnoliagardensauctionhouse.com/" rel="nofollow" style="background-color: transparent\; box-sizing: border-box\; color: rgb(37\, 107\, 201)\; line-height: inherit\; text-decoration: underline\;">www.magnoliagardensauctionhouse.com</a></p>\n\n<p style="margin-left:0px\; margin-right:0px">See you there!</p>\n\n<p style="margin-left:0px\; margin-right:0px">Tina Murphy 16380</p>\n\n<p style="margin-left:0px\; margin-right:0px">Items Sold As Is</p>\n\n<p style="margin-left:0px\; margin-right:0px">16% Buyers Premium</p>\n\n<p style="margin-left:0px\; margin-right:0px">Cash\, Check and Credit Card Accepted</p>\n\n<p style="margin-left:0px\; margin-right:0px">Open to the Public</p>\n\n<p style="margin-left:0px\; margin-right:0px">Dealers Welcome&nbsp\;</p>\n</div>\n</div>\n
LOCATION:18090 Bauer Road Hockley\, TX 77447
UID:e.1783.2454
SEQUENCE:3
DTSTAMP:20260424T132350Z
URL:https://business.wallerchamber.com/events/details/phenomenal-auction-saturday-march-14th-at-magnolia-gardens-auction-house-2454
END:VEVENT

END:VCALENDAR
