BEGIN:VCALENDAR
VERSION:2.0
PRODID:-//ChamberMaster//Event Calendar 2.0//EN
METHOD:PUBLISH
X-PUBLISHED-TTL:P3D
REFRESH-INTERVAL:P3D
CALSCALE:GREGORIAN
BEGIN:VEVENT
DTSTART:20220327T000000Z
DTEND:20220327T033000Z
X-MICROSOFT-CDO-ALLDAYEVENT:FALSE
SUMMARY:Magnolia Gardens Auction House is hosting an IN HOUSE auction this Saturday March 26th at 7pm!
DESCRIPTION:Join us for our in house auction this Saturday March 26th at Magnolia Gardens Auction House starting at 7pm!\n\n\n\nWe have a phenomenal floor full of items that you are sure to love\, beautiful Baldwin Concert Baby Grand Piano\, Cassin Italian Leather sofas\, Horsman antique dolls\, patio furniture\, patio umbrellas\, RS Prussia\, Toledo Scale\, Buescher Aristocat Saxaphone\, Vintage Goya Guitar\, H. Bettoney Columbia model clarinet\, Vintage Metropolitan Opera posters\, Thomasville sofa\, dining tables\, chairs and oh so much more! \n\n\n\nFood truck will be on site (cash only)\n\n\n\nVisit for more pictures at our website www.magnoliagardensauctionhouse.com \n\n\n\nViewing Wednesday from 10-5 and Saturday at 5pm. If you are unable to come\, you may call 281-516-7251 or 713-363-4855 for details on leaving bids. \n\n\n\nTina Murphy 16380\n\n16% Buyers Premium\n\nItems Sold As Is\n\nCash and Credit Cards Accepted\n\nOpen to the Public\n\nDealers welcome
X-ALT-DESC;FMTTYPE=text/html:<span style="font-size:20px">Join us for our in house auction this Saturday March 26th at Magnolia Gardens Auction House starting at 7pm!<br />\n<br />\nWe have a phenomenal floor full of items that you are sure to love\, beautiful Baldwin Concert Baby Grand Piano\, Cassin Italian Leather sofas\, Horsman antique dolls\, patio furniture\, patio umbrellas\, RS Prussia\, Toledo Scale\, Buescher Aristocat Saxaphone\, Vintage Goya Guitar\, H. Bettoney Columbia model clarinet\, Vintage Metropolitan Opera posters\, Thomasville sofa\, dining tables\, chairs and oh so much more!&nbsp\;<br />\n<br />\nFood truck will be on site (cash only)<br />\n<br />\nVisit for more pictures at our website www.magnoliagardensauctionhouse.com&nbsp\;<br />\n<br />\nViewing Wednesday from 10-5 and Saturday at 5pm. If you are unable to come\, you may call 281-516-7251 or 713-363-4855 for details on leaving bids.&nbsp\;<br />\n<br />\nTina Murphy 16380<br />\n16% Buyers Premium<br />\nItems Sold As Is<br />\nCash and Credit Cards Accepted<br />\nOpen to the Public<br />\nDealers welcome</span><br />\n&nbsp\;
LOCATION:18090 Bauer Road Hockley\, TX 77447
UID:e.1783.2503
SEQUENCE:3
DTSTAMP:20260419T180011Z
URL:https://business.wallerchamber.com/events/details/magnolia-gardens-auction-house-is-hosting-an-in-house-auction-this-saturday-march-26th-at-7pm-2503
END:VEVENT

END:VCALENDAR
