BEGIN:VCALENDAR
VERSION:2.0
PRODID:-//ChamberMaster//Event Calendar 2.0//EN
METHOD:PUBLISH
X-PUBLISHED-TTL:P3D
REFRESH-INTERVAL:P3D
CALSCALE:GREGORIAN
BEGIN:VEVENT
DTSTART:20190815T233000Z
DTEND:20190816T013000Z
X-MICROSOFT-CDO-ALLDAYEVENT:FALSE
SUMMARY:Foster and Adoptive Care Informational Meeting
DESCRIPTION:Waller County needs foster and adoptive parents. Come learn about becoming a foster or adoptive parent. You are more qualified than you think! RSVP by email: ticketsWCCWB@gmail.com or phone 936.463.1893. Dinner will be provided. RSVP by email: ticketsWCCWB@gmail.com or Phone (936) 463-1893.
X-ALT-DESC;FMTTYPE=text/html:Waller County needs foster and adoptive parents. Come learn about becoming a foster or adoptive parent. You are more qualified than you think! RSVP by email: ticketsWCCWB@gmail.com or phone 936.463.1893. Dinner will be provided. RSVP by email: ticketsWCCWB@gmail.com or Phone (936) 463-1893.
LOCATION:Waller County Cooperative Extension Office 846 6th Street Hempstead\, Texas
UID:e.1783.2405
SEQUENCE:3
DTSTAMP:20260425T004243Z
URL:https://business.wallerchamber.com/events/details/foster-and-adoptive-care-informational-meeting-2405
END:VEVENT

END:VCALENDAR
