BEGIN:VCALENDAR
VERSION:2.0
PRODID:-//ChamberMaster//Event Calendar 2.0//EN
METHOD:PUBLISH
X-PUBLISHED-TTL:P3D
REFRESH-INTERVAL:P3D
CALSCALE:GREGORIAN
BEGIN:VEVENT
DTSTART:20191019T160000Z
DTEND:20191019T220000Z
X-MICROSOFT-CDO-ALLDAYEVENT:FALSE
SUMMARY:Fall Festival
DESCRIPTION:Fall Festival will include 50 free pumpkins\, face painting\, cake walk\, give aways\, and vendors present. Corn hole tournament\, $5.00 per person and much more. Any questions please call 281-253-8662.
X-ALT-DESC;FMTTYPE=text/html:Fall Festival will include 50 free pumpkins\, face painting\, cake walk\, give aways\, and vendors present. Corn hole tournament\, $5.00 per person and much more. Any questions please call 281-253-8662.
LOCATION:Tuscan Gardens Nenue
UID:e.1783.2420
SEQUENCE:3
DTSTAMP:20260424T212532Z
URL:https://business.wallerchamber.com/events/details/fall-festival-2420
END:VEVENT

END:VCALENDAR
