BEGIN:VCALENDAR
VERSION:2.0
PRODID:-//ChamberMaster//Event Calendar 2.0//EN
METHOD:PUBLISH
X-PUBLISHED-TTL:P3D
REFRESH-INTERVAL:P3D
CALSCALE:GREGORIAN
BEGIN:VEVENT
DTSTART:20201025T000000Z
DTEND:20201025T040000Z
X-MICROSOFT-CDO-ALLDAYEVENT:FALSE
SUMMARY:Facebook Live Tag Sale Saturday October 24th at 7pm...details below.
DESCRIPTION:Yes we have another fabulous floor for you this Saturday October 24th at 7pm! Join us for our Magnolia Gardens Auction House Facebook Live Tag Sale!!\n\nDon't miss out on this fantastic floor this week.....lovely antique furniture\, patio furniture\, rustic cabinet\, dressers\, beds\, jewelry\, sewing machine and we are only getting started. \n\nWe have added some wonderful items....antique scale\, carpets\, butcher block kitchen island\, comfy chair\, vanity dresser\, king sleigh bed\, sofas\, and so much more! \n\nThis is an online event\, on our Magnolia Gardens Auction House Facebook page...everything is sold with a set price(some items may be sold auction style) plus 10% buyers premium and tax\, and yes you can still leave absentee bids. Easy and fun to participate an item will be shown and given a price and lot number\, be the first to show on our device as inputting the lot number given and the word sold and you will be the winner of the item. We will need your contact and payment information on file and you may do so by calling 281-516-7251. \n\nDon't forget we have viewing on Wednesday from 9:30-5:30 and Saturday before the sale starting at 3:30 until show time. \n\nTina Murphy 16380\n\nItems Sold As Is\n\n10% Buyers Premium \n\nCash and Credit Card Accepted\n\nOpen to the Public\n\nDealers Welcome
X-ALT-DESC;FMTTYPE=text/html:<p>Yes we have another fabulous floor for you this&nbsp\;<strong>Saturday October 24th at 7pm!</strong>&nbsp\;Join us for our<strong>&nbsp\;Magnolia Gardens Auction House Facebook Live Tag Sale!!</strong></p>\n\n<p><strong><em>Don&#39\;t miss out on this fantastic floor this week.....lovely antique furniture\, patio furniture\, rustic cabinet\, dressers\, beds\, jewelry\, sewing machine and we are only getting started.</em>&nbsp\;</strong></p>\n\n<p><strong>We have added some wonderful items....antique scale\, carpets\, butcher block kitchen island\, comfy chair\, vanity dresser\, king sleigh bed\, sofas\, and so much more!&nbsp\;</strong></p>\n\n<p>This is an online event\, on our Magnolia Gardens Auction House Facebook page...everything is sold with a set price(some items may be sold auction style) plus 10% buyers premium and tax\, and yes you can still leave absentee bids. Easy and fun to participate an item will be shown and given a price and lot number\, be the first to show on our device as inputting the lot number given and the word sold and you will be the winner of the item.&nbsp\;We will need your contact and payment information on file and you may do so by calling 281-516-7251.&nbsp\;</p>\n\n<p><em><strong>Don&#39\;t forget we have viewing on Wednesday from 9:30-5:30 and Saturday before the sale starting at 3:30 until show time.</strong></em>&nbsp\;</p>\n\n<p>Tina Murphy 16380</p>\n\n<p>Items Sold As&nbsp\;Is</p>\n\n<p>10% Buyers Premium&nbsp\;</p>\n\n<p>Cash and Credit Card Accepted</p>\n\n<p>Open to the Public</p>\n\n<p>Dealers Welcome</p>\n
LOCATION:Online Event: Magnolia Gardens Auction House Facebook Page
UID:e.1783.2468
SEQUENCE:3
DTSTAMP:20260422T162048Z
URL:https://business.wallerchamber.com/events/details/facebook-live-tag-sale-saturday-october-24th-at-7pm-details-below-2468
END:VEVENT

END:VCALENDAR
