BEGIN:VCALENDAR
VERSION:2.0
PRODID:-//ChamberMaster//Event Calendar 2.0//EN
METHOD:PUBLISH
X-PUBLISHED-TTL:P3D
REFRESH-INTERVAL:P3D
CALSCALE:GREGORIAN
BEGIN:VEVENT
DTSTART:20201031T160000Z
DTEND:20201031T180000Z
X-MICROSOFT-CDO-ALLDAYEVENT:FALSE
SUMMARY:Dellrose Plans Oct. 31 Autumn Fest
DESCRIPTION:Families will reap a cornucopia of fun during the annual Autumn Fest at Dellrose on Oct. 31. The free event will take place from 11 a.m. to 4 p.m. on the Dellrose clubhouse lawn\, 17312 Springfield Meadow Dr\, Hockley\, TX 77447. Children and adults can peruse a pumpkin patch\, bedeck pumpkins and compete in a decorating contest. Additional activities will include a photo booth\, bungie trampolines\, rock climbing and giant yard games. Food trucks will be on hand with goodies for purchase. The Oct. 31 celebration will include a Halloween costume contest. Dellrose strongly encourages social distancing and following all CDC recommendations to ensure the health and safety of everyone. Learn more at www.dellroseliving.com.
X-ALT-DESC;FMTTYPE=text/html:Families will reap a cornucopia of fun during the annual Autumn Fest at Dellrose on Oct. 31. The free event will take place from 11 a.m. to 4 p.m. on the Dellrose clubhouse lawn\, 17312 Springfield Meadow Dr\, Hockley\, TX 77447. Children and adults can peruse a pumpkin patch\, bedeck pumpkins and compete in a decorating contest. Additional activities will include a photo booth\, bungie trampolines\, rock climbing and giant yard games. Food trucks will be on hand with goodies for purchase. The Oct. 31 celebration will include a Halloween costume contest. Dellrose strongly encourages social distancing and following all CDC recommendations to ensure the health and safety of everyone. Learn more at www.dellroseliving.com.
LOCATION:Dellrose Clubhouse Lawn 17312 Springfield Meadow Dr Hockley\, TX 77447
UID:e.1783.2467
SEQUENCE:3
DTSTAMP:20260422T162420Z
URL:https://business.wallerchamber.com/events/details/dellrose-plans-oct-31-autumn-fest-2467
END:VEVENT

END:VCALENDAR
