BEGIN:VCALENDAR
VERSION:2.0
PRODID:-//ChamberMaster//Event Calendar 2.0//EN
METHOD:PUBLISH
X-PUBLISHED-TTL:P3D
REFRESH-INTERVAL:P3D
CALSCALE:GREGORIAN
BEGIN:VEVENT
DTSTART:20200913T000000Z
DTEND:20200913T040000Z
X-MICROSOFT-CDO-ALLDAYEVENT:FALSE
SUMMARY:Decorator Dream Facebook Live Tag Sale\, Saturday September 12th at 7pm on our Magnolia Gardens Auction House Page!
DESCRIPTION:Join us for our Facebook Live Tag Sale Saturday September 12th starting at 7pm on our Magnolia Gardens Auction House page! \n\nWe are off to a great start for this weeks live tag sale.....new sofas\, custom made tables\, dining tables and chairs\, groovy swing chairs\, china\, drop front secretary\, trunks\, headboards\, and so much more to come!!!\n\nThis is an online event\, everything is sold with set price plus 10% buyers premium and tax\, some items may be sold in an auction style. We need to have your payment information on file and you may do so by calling 281-516-7251 to register. Visit our website at www.magnoliagardensauctionhouse.com and be sure to "like" and follow us on Facebook. We can ship smaller items and you will be charged the price of shipping.\n\nTina Murphy 16380\n\nItems Sold As Is \n\n10% Buyers Premium\n\nCash and Credit Card Accepted\n\nOpen to the Public\n\nDealers Welcome
X-ALT-DESC;FMTTYPE=text/html:<p>Join us for our<strong>&nbsp\;Facebook Live Tag Sale Saturday September 12th</strong>&nbsp\;starting at&nbsp\;<strong>7pm</strong>&nbsp\;on our&nbsp\;<strong>Magnolia Gardens Auction House page!&nbsp\;</strong></p>\n\n<p><em><strong>We are off to a great start for this weeks live tag sale.....new sofas\, custom made tables\, dining tables and chairs\, groovy swing chairs\, china\, drop front secretary\, trunks\, headboards\, and so much more to come!!!</strong></em></p>\n\n<p>This is an online event\, everything is sold with set price plus 10% buyers premium and tax\, some items may be sold in an auction style. We need to have your payment information on file and you may do so by calling 281-516-7251 to register. Visit our website at&nbsp\;<a href="http://www.magnoliagardensauctionhouse.com/" rel="nofollow" style="box-sizing: border-box\; background-color: transparent\; line-height: inherit\; color: rgb(37\, 107\, 201) !important\;">www.magnoliagardensauctionhouse.com</a>&nbsp\;and be sure to &quot\;like&quot\; and follow us on Facebook. We can ship smaller items and you will be charged the price of shipping.</p>\n\n<p>Tina Murphy 16380</p>\n\n<p>Items Sold As Is&nbsp\;</p>\n\n<p>10% Buyers Premium</p>\n\n<p>Cash and Credit Card Accepted</p>\n\n<p>Open to the Public</p>\n\n<p>Dealers Welcome</p>\n
LOCATION:ONLINE at our Magnolia Gardens Auction House Facebook Page!
UID:e.1783.2462
SEQUENCE:3
DTSTAMP:20260422T174556Z
URL:https://business.wallerchamber.com/events/details/decorator-dream-facebook-live-tag-sale-saturday-september-12th-at-7pm-on-our-magnolia-gardens-auction-house-page-2462
END:VEVENT

END:VCALENDAR
