BEGIN:VCALENDAR
VERSION:2.0
PRODID:-//ChamberMaster//Event Calendar 2.0//EN
METHOD:PUBLISH
X-PUBLISHED-TTL:P3D
REFRESH-INTERVAL:P3D
CALSCALE:GREGORIAN
BEGIN:VEVENT
DTSTART:20190917T223000Z
DTEND:20190918T003000Z
X-MICROSOFT-CDO-ALLDAYEVENT:FALSE
SUMMARY:CASA Cafe': Drug Abuse Cycle & The Impact It Has on Families
DESCRIPTION:Brazos Valley Council on Alcohol & Abuse are presenting on the drug abuse cycle and the impact it has on families.They will explain how drugs don't just affect the person doing the drug's life\, but how it affects everyone around them.
X-ALT-DESC;FMTTYPE=text/html:<div style="text-align:center">\n<div style="text-align:center">Brazos Valley Council on Alcohol &amp\; Abuse are presenting on the drug abuse cycle and the impact it has on families.They will explain how drugs don&#39\;t just affect the person doing the drug&#39\;s life\, but how it affects everyone around them.</div>\n\n<div style="text-align:center">&nbsp\;</div>\n</div>\n
LOCATION:CASA Office 1500 South Day Street Brenham\, TX 77833
UID:e.1783.2416
SEQUENCE:3
DTSTAMP:20260424T224533Z
URL:https://business.wallerchamber.com/events/details/casa-cafe-bvcasa-2416
END:VEVENT

END:VCALENDAR
